BEGIN:VCALENDAR
VERSION:2.0
PRODID:-//Shayan Badri - ECPv6.15.20//NONSGML v1.0//EN
CALSCALE:GREGORIAN
METHOD:PUBLISH
X-WR-CALNAME:Shayan Badri
X-ORIGINAL-URL:https://shayanbadri.de
X-WR-CALDESC:Events for Shayan Badri
REFRESH-INTERVAL;VALUE=DURATION:PT1H
X-Robots-Tag:noindex
X-PUBLISHED-TTL:PT1H
BEGIN:VTIMEZONE
TZID:Europe/Berlin
BEGIN:DAYLIGHT
TZOFFSETFROM:+0100
TZOFFSETTO:+0200
TZNAME:CEST
DTSTART:20230326T010000
END:DAYLIGHT
BEGIN:STANDARD
TZOFFSETFROM:+0200
TZOFFSETTO:+0100
TZNAME:CET
DTSTART:20231029T010000
END:STANDARD
BEGIN:DAYLIGHT
TZOFFSETFROM:+0100
TZOFFSETTO:+0200
TZNAME:CEST
DTSTART:20240331T010000
END:DAYLIGHT
BEGIN:STANDARD
TZOFFSETFROM:+0200
TZOFFSETTO:+0100
TZNAME:CET
DTSTART:20241027T010000
END:STANDARD
BEGIN:DAYLIGHT
TZOFFSETFROM:+0100
TZOFFSETTO:+0200
TZNAME:CEST
DTSTART:20250330T010000
END:DAYLIGHT
BEGIN:STANDARD
TZOFFSETFROM:+0200
TZOFFSETTO:+0100
TZNAME:CET
DTSTART:20251026T010000
END:STANDARD
END:VTIMEZONE
BEGIN:VEVENT
DTSTART;TZID=Europe/Berlin:20240414T140000
DTEND;TZID=Europe/Berlin:20240414T160000
DTSTAMP:20260422T030725
CREATED:20240408T135353Z
LAST-MODIFIED:20240408T135405Z
UID:107-1713103200-1713110400@shayanbadri.de
SUMMARY:SundayFunday
DESCRIPTION:Diesmal zur Kaffeezeit lädt Ecstatic Dance Goettingen zu einem besonderen Ecstatic Dance ein: Lass uns befreit tanzen\, unsere Körper schütteln und die Energie fließen lassen. Wir feiern den Tag und jeden Moment\, den wir erleben. \nNach der Tanzreise soll in gemütlicher Runde gemeinsam Kuchen und die Zeit genossen werden. \nBitte bring etwas Leckeres für das Buffet mit und was du darüber hinaus brauchst\, um dich wie zu Hause zu fühlen.
URL:https://shayanbadri.de/event/sundayfunday/
LOCATION:Musa\, Hagenweg 2\, Göttingen\, 37085\, Germany
ORGANIZER;CN="Ecstatic Dance G%C3%B6ttingen":MAILTO:info@ecstaticdancegoettingen.de
END:VEVENT
END:VCALENDAR