BEGIN:VCALENDAR
VERSION:2.0
PRODID:-//Shayan Badri - ECPv6.15.20//NONSGML v1.0//EN
CALSCALE:GREGORIAN
METHOD:PUBLISH
X-WR-CALNAME:Shayan Badri
X-ORIGINAL-URL:https://shayanbadri.de
X-WR-CALDESC:Events for Shayan Badri
REFRESH-INTERVAL;VALUE=DURATION:PT1H
X-Robots-Tag:noindex
X-PUBLISHED-TTL:PT1H
BEGIN:VTIMEZONE
TZID:Europe/Berlin
BEGIN:DAYLIGHT
TZOFFSETFROM:+0100
TZOFFSETTO:+0200
TZNAME:CEST
DTSTART:20230326T010000
END:DAYLIGHT
BEGIN:STANDARD
TZOFFSETFROM:+0200
TZOFFSETTO:+0100
TZNAME:CET
DTSTART:20231029T010000
END:STANDARD
BEGIN:DAYLIGHT
TZOFFSETFROM:+0100
TZOFFSETTO:+0200
TZNAME:CEST
DTSTART:20240331T010000
END:DAYLIGHT
BEGIN:STANDARD
TZOFFSETFROM:+0200
TZOFFSETTO:+0100
TZNAME:CET
DTSTART:20241027T010000
END:STANDARD
BEGIN:DAYLIGHT
TZOFFSETFROM:+0100
TZOFFSETTO:+0200
TZNAME:CEST
DTSTART:20250330T010000
END:DAYLIGHT
BEGIN:STANDARD
TZOFFSETFROM:+0200
TZOFFSETTO:+0100
TZNAME:CET
DTSTART:20251026T010000
END:STANDARD
BEGIN:DAYLIGHT
TZOFFSETFROM:+0100
TZOFFSETTO:+0200
TZNAME:CEST
DTSTART:20260329T010000
END:DAYLIGHT
BEGIN:STANDARD
TZOFFSETFROM:+0200
TZOFFSETTO:+0100
TZNAME:CET
DTSTART:20261025T010000
END:STANDARD
END:VTIMEZONE
BEGIN:VEVENT
DTSTART;TZID=Europe/Berlin:20250315T183000
DTEND;TZID=Europe/Berlin:20250315T220000
DTSTAMP:20260421T130450
CREATED:20250303T165023Z
LAST-MODIFIED:20250303T165104Z
UID:1374-1742063400-1742076000@shayanbadri.de
SUMMARY:Shayan in Ecstatic Dance Aachen
DESCRIPTION:☽ E C S T A T I C ✩ D A N C E ✩ S E S S I O N ☾\n✩ LIVE SPECIAL ✩\n✦ SINGING CIRCLE ✦\n\n\nReichsweg 30\, 52068 Aachen\, Deutschland\n\n\n☽ mit Odile Boyens ☾https://www.facebook.com/odile.boyens\n♪ ♫ mit DJ Shayan (& Live) ♪ ♫https://soundcloud.com/shayan-badri\n\nZum Anlass des nahenden Frühlings wollen wir die Ecstatic Dance Session um einen Singkreis erweitern und uns im Rahmen der natürlichen Kreisläufe von der dunklen Jahreszeit verabschieden und die Freuden des Frühlings diese Erneuerung mit gemeinsamem Singen und anschließendem Tanz zelebrieren.\n\nShayan\, ein aus dem Iran stammender Künstler\, ist als DJ\, Produzent\, Singer-Songwriter und Yoga-Lehrer tätig und teilt seit über zwei Jahrzehnten seine musikalische Vielfalt in Genres wie Weltmusik\, Meditationsmusik\, Fusion\, Elektronik\, Trance\, Techno und mehr. Seine Werke sind bekannt für ihre Reinheit\, Authentizität und Offenheit. Als Gründer von Ecstatic Dance Göttingen organisiert Shayan regelmäßig Tanzveranstaltungen mit Ritualen und Zeremonien\, bei denen er selbst live Percussion spielt und singt. Dadurch entsteht eine einzigartige Atmosphäre\, in der die Seele tanzen kann und die Musik Welten miteinander verbindet.\n\nEcstatic Dance ist ein Raum indem Du mit all dem\, was gerade ist\, sein kannst. Lasst uns gemeinsam unsere Lebensenergie spüren\, sie erforschen\, uns von ihr berühren & bewegen lassen und sie spielerisch zum Ausdruck bringen. Diese meditative Tanzreise wird von Musik aus der ganzen Welt und vielen Genres\, mal von fließenden Klängen\, mal von knackigen Beats begleitet.\n\nBringe bitte mit:\n► bequeme Kleidung► Wasser in deiner Trinkflasche und eine kleine Tasse für den Kakao► Dich mit all deinem authentischen Sein\n\n☽ C E R E M O N Y ☾\n18:30 – Einlass\, Beginn 19:00 Uhr. Bitte sei pünktlich.19:00 – Singkreis mit Odile Boyens20:00 – Ecstatic Dance Journey mit DJ Shayan21:45 – Abschlusskreis\n\n☽ D I E ✩ D R E I ✩ R E G E L N ☾\n– Kein Alkohol oder andere Drogen (& keine Handys).– Keine verbale Kommunikation auf der Tanzfläche.– Wir tanzen alle ohne Schuhe.\n\n\n☽ E N E R G I E A U S G L E I C H ☾\nLow Budget: 20€ Standard: 25€ Support: 30€.\nDu entscheidest.\n\nWir freuen uns auf Euch!\nLino & Team
URL:https://shayanbadri.de/event/shayan-in-ecstatic-dance-aachen/
ATTACH;FMTTYPE=image/jpeg:https://shayanbadri.de/wp-content/uploads/2025/03/480251213_929263486070141_2865981461603710293_n-scaled.jpg
END:VEVENT
BEGIN:VEVENT
DTSTART;TZID=Europe/Berlin:20250309T183000
DTEND;TZID=Europe/Berlin:20250309T213000
DTSTAMP:20260421T130450
CREATED:20250215T201155Z
LAST-MODIFIED:20250215T201155Z
UID:1324-1741545000-1741555800@shayanbadri.de
SUMMARY:Ecstatic Dance Göttingen mit Rishi
DESCRIPTION:Ihr wundervollen Menschen\, 💫✨ \nich lade euch von Herzen zum nächsten Tanz ein! Unsere Tänze sind magisch\, und ich bin so dankbar\, dass wir gemeinsam diesen besonderen Raum erschaffen. Eure Präsenz macht diesen Moment einzigartig! \n📅 Unser nächster Tanz findet am 09.03. um 18:30 Uhr statt. \nIch freue mich riesig\, dass Rishi Vlote wieder in unserer Community ist! 🎶 \nMit seiner langjährigen Erfahrung und einem breiten Spektrum an musikalischen Einflüssen bringt er die gesamte Trommelwelt auf die Tanzfläche. Seine Grooves sind mystisch\, tanzbar und erzählen musikalische Geschichten voller Rhythmus und Magie. \nSeine Alben Forget Your Limitations und Remember Your Freedom haben in Conscious-Dance-Kreisen längst Kultstatus erreicht. Ich höre seine Tracks immer wieder in verschiedenen Conscious-Party-Playlists – und es ist einfach wundervoll\, dass er live für uns spielt! \n🎧 Hör mal rein:🔗 Rishi Vlote auf Spotify🎥 Live-Performance:🔗 Rishi Vlote auf YouTube \n🔥 Dieses Event ist ein absolutes Highlight – sehr zu empfehlen! 🔥 \n\n🌿 ABLAUF 🌿\n🌀 18:15 Einlass & Ankommen🌀 18:30 Opening Circle\, Meditation & Warm-up🌀 19:00 Ecstatic Dance🌀 21:00 Chillout & Ausklang🌀 21:30 Closing Circle \nWir bitten euch\, von Anfang bis Ende dabei zu bleiben\, damit wir gemeinsam einen sicheren und tiefgehenden Raum kreieren können. \n\nTickets: \nHier direkt online kaufen \n✨ Early Bird (limitiert auf 10 Stück!) \n\nLove \nShayan & Rishi \nEcstatic Dance Göttingen
URL:https://shayanbadri.de/event/ecstatic-dance-gottingen-mit-rishi/
LOCATION:Musa\, Hagenweg 2\, Göttingen\, 37085\, Germany
ATTACH;FMTTYPE=image/png:https://shayanbadri.de/wp-content/uploads/2025/02/ED-And-Rishi.png
ORGANIZER;CN="Ecstatic Dance G%C3%B6ttingen":MAILTO:info@ecstaticdancegoettingen.de
END:VEVENT
BEGIN:VEVENT
DTSTART;TZID=Europe/Berlin:20250209T170000
DTEND;TZID=Europe/Berlin:20250209T200000
DTSTAMP:20260421T130450
CREATED:20250207T135714Z
LAST-MODIFIED:20250207T141136Z
UID:866-1739120400-1739131200@shayanbadri.de
SUMMARY:Ecstatic Dance Göttingen mit Voice Healing
DESCRIPTION:Ihr Lieben\, \nNext Date:\n🗓️ 09.02\n🔥 Zeit: 17:00–20:00\n📍 Ort: Tanzraum Musa\, Hagenweg 2 \nABLAUF:\n16:45 – Einlass\, Ankommen\n17:00 – Opening Circle\, Meditieren\, Warm-up\n17:30 – Tanz\n19:30 – Voice healing(Anke Wittenbecher)\n20:00 – Closing Circle \n🌈\n* Falls du Flyer zum Teilen hast\, bring sie gerne mit – es gibt einen Platz dafür (z. B. Werbung für Selbständige usw.\, aber bitte keine Politik oder Wahlempfehlungen).\n* Von den letzten Malen sind einige Tassen und eine Brille liegen geblieben. Falls du etwas vermisst\, melde dich bei mir.\n* Kinder ab 12 Jahren können ohne Ticket teilnehmen.\n* Wasser und Obst stehen zur Selbstbedienung bereit (Nüsse habe ich weggelassen\, da sie ablenkend waren).\n* Wenn du es dir gemütlicher machen möchtest\, kannst du gerne eine zusätzliche Decke mitbringen. \n🌱\nTickets:\nHier direkt online kaufen\n*Bitte kauft euer Ticket vorab online. Es gibt nur eine begrenzte Anzahl an Tickets an der Abendkasse* \nSee you soon! \nLove\,\nShayan
URL:https://shayanbadri.de/event/ecstatic-dance-gottingen-mit-voice-healing/
LOCATION:Musa\, Hagenweg 2\, Göttingen\, 37085\, Germany
ATTACH;FMTTYPE=image/png:https://shayanbadri.de/wp-content/uploads/2025/02/events-banner.png
ORGANIZER;CN="Ecstatic Dance G%C3%B6ttingen":MAILTO:info@ecstaticdancegoettingen.de
END:VEVENT
BEGIN:VEVENT
DTSTART;TZID=Europe/Berlin:20240929T190000
DTEND;TZID=Europe/Berlin:20240929T213000
DTSTAMP:20260421T130450
CREATED:20240904T131747Z
LAST-MODIFIED:20240904T131747Z
UID:163-1727636400-1727645400@shayanbadri.de
SUMMARY:Ecstatic Dance & Breathwork mit Alina Gausmann
DESCRIPTION:Die Erfahrung\, die wir in der letzten Session mit Breathwork gemacht haben und die Kombination mit dem anschließenden Tanzen\, haben in mir den Wunsch geweckt\, das in Göttingen wieder geschehen zu lassen. Die Sessions sind intensiv – wenn du mit deinen unterdrückten Gefühlen in Kontakt kommen möchtest\, komm und mach mit\, It’s really amazing.\nSchau dir Alinas Website für weitere Einblicke an. \n  \nOrt: Musa Tanzraum\nZeit: 19:00 Uhr-21:30 Uhr\nBeitrag: 30€
URL:https://shayanbadri.de/event/ecstatic-dance-breathwork-mit-alina-gausmann/
LOCATION:Musa\, Hagenweg 2\, Göttingen\, 37085\, Germany
ORGANIZER;CN="Ecstatic Dance G%C3%B6ttingen":MAILTO:info@ecstaticdancegoettingen.de
END:VEVENT
BEGIN:VEVENT
DTSTART;TZID=Europe/Berlin:20240915T190000
DTEND;TZID=Europe/Berlin:20240915T210000
DTSTAMP:20260421T130450
CREATED:20240904T131624Z
LAST-MODIFIED:20240904T131624Z
UID:161-1726426800-1726434000@shayanbadri.de
SUMMARY:Ecstatic Dance
DESCRIPTION:Ort: Musa Tanzraum\nZeit: 19:00 Uhr-21:00 Uhr\nSpenden Empfehlung: 15€ \n 
URL:https://shayanbadri.de/event/ecstatic-dance/
LOCATION:Musa\, Hagenweg 2\, Göttingen\, 37085\, Germany
ORGANIZER;CN="Ecstatic Dance G%C3%B6ttingen":MAILTO:info@ecstaticdancegoettingen.de
END:VEVENT
BEGIN:VEVENT
DTSTART;TZID=Europe/Berlin:20240913T190000
DTEND;TZID=Europe/Berlin:20240913T220000
DTSTAMP:20260421T130450
CREATED:20240904T131419Z
LAST-MODIFIED:20240904T131419Z
UID:158-1726254000-1726264800@shayanbadri.de
SUMMARY:Ecstatic Dance & Singkreis mit Anahata
DESCRIPTION:Ecstatic Dance & Singkreis mit Anahata\nOrt: Heckenbeck Gruppenraum\nZeit: 19:00 Uhr-22:00 Uhr\nBeitrag: 30€
URL:https://shayanbadri.de/event/ecstatic-dance-singkreis-mit-anahata/
LOCATION:Heckenbeck\, Meditationshaus\, Germany
ORGANIZER;CN="Ecstatic Dance G%C3%B6ttingen":MAILTO:info@ecstaticdancegoettingen.de
END:VEVENT
BEGIN:VEVENT
DTSTART;VALUE=DATE:20240907
DTEND;VALUE=DATE:20240908
DTSTAMP:20260421T130450
CREATED:20240904T131106Z
LAST-MODIFIED:20240904T131106Z
UID:154-1725667200-1725753599@shayanbadri.de
SUMMARY:Ecstatic Dance & Cacao Zeremonie
DESCRIPTION:
URL:https://shayanbadri.de/event/ecstatic-dance-cacao-zeremonie/
LOCATION:Acronyx\, Gut Steimke\, Uslar\, Germany
ORGANIZER;CN="Ecstatic Dance G%C3%B6ttingen":MAILTO:info@ecstaticdancegoettingen.de
END:VEVENT
BEGIN:VEVENT
DTSTART;TZID=Europe/Berlin:20240419T180000
DTEND;TZID=Europe/Berlin:20240419T210000
DTSTAMP:20260421T130450
CREATED:20240410T101413Z
LAST-MODIFIED:20240410T101513Z
UID:111-1713549600-1713560400@shayanbadri.de
SUMMARY:Ecstatic Dance Ritual\, Spring Celebration
DESCRIPTION:Der Frühling ist da! Wir laden dich zu einem besonderen Event im rituellen Rahmen ein. Mit Musik und Tanz wollen wir mit der neu erwachenden Erde unsere Lebendigkeit feiern! Shayan nimmt dich mit auf die 90minütige Reise in authentische Bewegung und lebendigen Ausdruck. Anahata lädt dich im Anschluss mit ihrer berührenden Musik ein zur Ruhe zu kommen\, tiefer zu fühlen und zu singen. Wir freuen uns auf dich! \nÜber Ecstatic Dance: Ohne Worte\, ohne Drogen\, ohne Schuhe\, ohne Handy: „Ecstatic Dance ist reines Tanzvergnügen im puren Ausdruck des Gegenwärtigen\, mal kraftvoll treibend\, mal herzvoll sanft\, mal in Kontakt\, mal für dich – ganz nach Stimmung und Stimmigkeit. \n  \nFalls es finanziell bei dir eng ist\, sprich uns gerne an\, um eine andere Form des Energieausgleiches zu finden. \n  \nhttps://www.eventim-light.com/de/a/65b28f08709d0030afa6d435/e/65fd7a2007c4eb3be4bc4565 \n  \nZeitraum:18:00 – 21:00 \n 
URL:https://shayanbadri.de/event/ecstatic-dance-ritual-spring-celebration/
LOCATION:Musa\, Hagenweg 2\, Göttingen\, 37085\, Germany
ATTACH;FMTTYPE=image/webp:https://shayanbadri.de/wp-content/uploads/2024/04/Bird.webp
ORGANIZER;CN="Ecstatic Dance G%C3%B6ttingen":MAILTO:info@ecstaticdancegoettingen.de
END:VEVENT
BEGIN:VEVENT
DTSTART;TZID=Europe/Berlin:20240414T140000
DTEND;TZID=Europe/Berlin:20240414T160000
DTSTAMP:20260421T130450
CREATED:20240408T135353Z
LAST-MODIFIED:20240408T135405Z
UID:107-1713103200-1713110400@shayanbadri.de
SUMMARY:SundayFunday
DESCRIPTION:Diesmal zur Kaffeezeit lädt Ecstatic Dance Goettingen zu einem besonderen Ecstatic Dance ein: Lass uns befreit tanzen\, unsere Körper schütteln und die Energie fließen lassen. Wir feiern den Tag und jeden Moment\, den wir erleben. \nNach der Tanzreise soll in gemütlicher Runde gemeinsam Kuchen und die Zeit genossen werden. \nBitte bring etwas Leckeres für das Buffet mit und was du darüber hinaus brauchst\, um dich wie zu Hause zu fühlen.
URL:https://shayanbadri.de/event/sundayfunday/
LOCATION:Musa\, Hagenweg 2\, Göttingen\, 37085\, Germany
ORGANIZER;CN="Ecstatic Dance G%C3%B6ttingen":MAILTO:info@ecstaticdancegoettingen.de
END:VEVENT
END:VCALENDAR